BEGIN:VCALENDAR
VERSION:2.0
PRODID:spatie/icalendar-generator
DESCRIPTION:Events from KRCM Online
X-WR-CALDESC:Events from KRCM Online
REFRESH-INTERVAL;VALUE=DURATION:PT1440M
X-PUBLISHED-TTL:PT1440M
BEGIN:VTIMEZONE
TZID:America/Toronto
BEGIN:STANDARD
DTSTART:20231105T020000Z
TZOFFSETFROM:-0400
TZOFFSETTO:-0500
END:STANDARD
BEGIN:DAYLIGHT
DTSTART:20240310T020000Z
TZOFFSETFROM:-0500
TZOFFSETTO:-0400
END:DAYLIGHT
BEGIN:STANDARD
DTSTART:20241103T020000Z
TZOFFSETFROM:-0400
TZOFFSETTO:-0500
END:STANDARD
END:VTIMEZONE
BEGIN:VTIMEZONE
TZID:UTC
BEGIN:STANDARD
DTSTART:20250725T102144Z
TZOFFSETFROM:+0000
TZOFFSETTO:+0000
END:STANDARD
END:VTIMEZONE
BEGIN:VEVENT
UID:83-67
DTSTAMP:20260421T102144Z
SUMMARY:June Club Meeting
LOCATION:KRCM Flying Field 1035 Fred Brown Road  Odessa Ontario K0H 2H0
ORGANIZER;CN=Gary Hudson:MAILTO:hudsong@personainternet.com
DTSTART;TZID=America/Toronto:20240610T193000
DTEND;TZID=America/Toronto:20240610T203000
X-ALT-DESC;FMTTYPE=TEXT/HTML:Due to the Fathers Day fun fly being held the 
 weekend of June 15th and 16th\, the June club meeting will be held at the 
 club field June 10th at 7:30 PM.  This is the final organizational meetin
 g for the FDFF for 2024.  This is the time that each member should proudl
 y stand up and&amp;hellip\;
CATEGORIES:General Club Meeting
URL;VALUE=URI:https://krcm.org/index.php/mc-events/june-club-meeting/?mc_id
 =83
END:VEVENT
END:VCALENDAR